BEGIN:VCALENDAR
VERSION:2.0
PRODID:-//DUNLOP JUNIOR SERIES - ECPv6.15.16//NONSGML v1.0//EN
CALSCALE:GREGORIAN
METHOD:PUBLISH
X-ORIGINAL-URL:https://junior-series.de
X-WR-CALDESC:Veranstaltungen für DUNLOP JUNIOR SERIES
REFRESH-INTERVAL;VALUE=DURATION:PT1H
X-Robots-Tag:noindex
X-PUBLISHED-TTL:PT1H
BEGIN:VTIMEZONE
TZID:Europe/Berlin
BEGIN:DAYLIGHT
TZOFFSETFROM:+0100
TZOFFSETTO:+0200
TZNAME:CEST
DTSTART:20220327T010000
END:DAYLIGHT
BEGIN:STANDARD
TZOFFSETFROM:+0200
TZOFFSETTO:+0100
TZNAME:CET
DTSTART:20221030T010000
END:STANDARD
BEGIN:DAYLIGHT
TZOFFSETFROM:+0100
TZOFFSETTO:+0200
TZNAME:CEST
DTSTART:20230326T010000
END:DAYLIGHT
BEGIN:STANDARD
TZOFFSETFROM:+0200
TZOFFSETTO:+0100
TZNAME:CET
DTSTART:20231029T010000
END:STANDARD
BEGIN:DAYLIGHT
TZOFFSETFROM:+0100
TZOFFSETTO:+0200
TZNAME:CEST
DTSTART:20240331T010000
END:DAYLIGHT
BEGIN:STANDARD
TZOFFSETFROM:+0200
TZOFFSETTO:+0100
TZNAME:CET
DTSTART:20241027T010000
END:STANDARD
END:VTIMEZONE
BEGIN:VEVENT
DTSTART;VALUE=DATE:20230324
DTEND;VALUE=DATE:20230327
DTSTAMP:20260423T032109
CREATED:20230127T114710Z
LAST-MODIFIED:20230127T114710Z
UID:3257-1679616000-1679875199@junior-series.de
SUMMARY:Bayerische Jugend Hallenmeisterschaften 2023
DESCRIPTION:
URL:https://junior-series.de/event/bayerische-jugend-hallenmeisterschaften-2023-2/
LOCATION:Bayrischer Tennisvarband
CATEGORIES:Dunlop Junior Series
END:VEVENT
BEGIN:VEVENT
DTSTART;VALUE=DATE:20230325
DTEND;VALUE=DATE:20230327
DTSTAMP:20260423T032109
CREATED:20230127T114843Z
LAST-MODIFIED:20230127T114843Z
UID:3260-1679702400-1679875199@junior-series.de
SUMMARY:32. Ostdeutsche Jugendmeisterschaften U12 / U14
DESCRIPTION:
URL:https://junior-series.de/event/32-ostdeutsche-jugendmeisterschaften-u12-u14/
LOCATION:Sächsischer Tennisverband
CATEGORIES:Dunlop Junior Series
END:VEVENT
END:VCALENDAR