BEGIN:VCALENDAR
VERSION:2.0
PRODID:-//DUNLOP JUNIOR SERIES - ECPv6.15.16//NONSGML v1.0//EN
CALSCALE:GREGORIAN
METHOD:PUBLISH
X-ORIGINAL-URL:https://junior-series.de
X-WR-CALDESC:Veranstaltungen für DUNLOP JUNIOR SERIES
REFRESH-INTERVAL;VALUE=DURATION:PT1H
X-Robots-Tag:noindex
X-PUBLISHED-TTL:PT1H
BEGIN:VTIMEZONE
TZID:Europe/Berlin
BEGIN:DAYLIGHT
TZOFFSETFROM:+0100
TZOFFSETTO:+0200
TZNAME:CEST
DTSTART:20220327T010000
END:DAYLIGHT
BEGIN:STANDARD
TZOFFSETFROM:+0200
TZOFFSETTO:+0100
TZNAME:CET
DTSTART:20221030T010000
END:STANDARD
BEGIN:DAYLIGHT
TZOFFSETFROM:+0100
TZOFFSETTO:+0200
TZNAME:CEST
DTSTART:20230326T010000
END:DAYLIGHT
BEGIN:STANDARD
TZOFFSETFROM:+0200
TZOFFSETTO:+0100
TZNAME:CET
DTSTART:20231029T010000
END:STANDARD
BEGIN:DAYLIGHT
TZOFFSETFROM:+0100
TZOFFSETTO:+0200
TZNAME:CEST
DTSTART:20240331T010000
END:DAYLIGHT
BEGIN:STANDARD
TZOFFSETFROM:+0200
TZOFFSETTO:+0100
TZNAME:CET
DTSTART:20241027T010000
END:STANDARD
END:VTIMEZONE
BEGIN:VEVENT
DTSTART;VALUE=DATE:20230717
DTEND;VALUE=DATE:20230721
DTSTAMP:20260422T211646
CREATED:20230127T124218Z
LAST-MODIFIED:20230127T124218Z
UID:3329-1689552000-1689897599@junior-series.de
SUMMARY:27. Internationales Jugendturnier des TC Rot-Weiß Troisdorf
DESCRIPTION:
URL:https://junior-series.de/event/27-internationales-jugendturnier-des-tc-rot-weiss-troisdorf/
LOCATION:TC RW Troisdorf\, Carl- Diem- Straße 2\, Troisdorf\, 53840
CATEGORIES:Dunlop Junior Series
END:VEVENT
BEGIN:VEVENT
DTSTART;VALUE=DATE:20230717
DTEND;VALUE=DATE:20230722
DTSTAMP:20260422T211646
CREATED:20230127T123931Z
LAST-MODIFIED:20230127T123931Z
UID:3325-1689552000-1689983999@junior-series.de
SUMMARY:Düsseldorf Junior Open 2023
DESCRIPTION:
URL:https://junior-series.de/event/duesseldorf-junior-open-2023-2/
LOCATION:TC Rheinstadion\, Am Staad 17\, Düsseldorf\, 40474
CATEGORIES:Dunlop Junior Series
END:VEVENT
BEGIN:VEVENT
DTSTART;VALUE=DATE:20230717
DTEND;VALUE=DATE:20230722
DTSTAMP:20260422T211646
CREATED:20230127T124033Z
LAST-MODIFIED:20230127T124033Z
UID:3327-1689552000-1689983999@junior-series.de
SUMMARY:Düsseldorf Junior Open 2023
DESCRIPTION:
URL:https://junior-series.de/event/duesseldorf-junior-open-2023-3/
LOCATION:TC Rheinstadion\, Am Staad 17\, Düsseldorf\, 40474
CATEGORIES:Dunlop Junior Series
END:VEVENT
BEGIN:VEVENT
DTSTART;VALUE=DATE:20230720
DTEND;VALUE=DATE:20230724
DTSTAMP:20260422T211646
CREATED:20230127T124401Z
LAST-MODIFIED:20230127T124401Z
UID:3336-1689811200-1690156799@junior-series.de
SUMMARY:18. Blankeneser Sommerturnier
DESCRIPTION:
URL:https://junior-series.de/event/18-blankeneser-sommerturnier/
LOCATION:Sportvereiningung Blankenese\, Eichengrund 25\, Hamburg\, 22589
CATEGORIES:Dunlop Junior Series
END:VEVENT
END:VCALENDAR