BEGIN:VCALENDAR
VERSION:2.0
PRODID:-//DUNLOP JUNIOR SERIES - ECPv6.15.16//NONSGML v1.0//EN
CALSCALE:GREGORIAN
METHOD:PUBLISH
X-WR-CALNAME:DUNLOP JUNIOR SERIES
X-ORIGINAL-URL:https://junior-series.de
X-WR-CALDESC:Veranstaltungen für DUNLOP JUNIOR SERIES
REFRESH-INTERVAL;VALUE=DURATION:PT1H
X-Robots-Tag:noindex
X-PUBLISHED-TTL:PT1H
BEGIN:VTIMEZONE
TZID:Europe/Berlin
BEGIN:DAYLIGHT
TZOFFSETFROM:+0100
TZOFFSETTO:+0200
TZNAME:CEST
DTSTART:20220327T010000
END:DAYLIGHT
BEGIN:STANDARD
TZOFFSETFROM:+0200
TZOFFSETTO:+0100
TZNAME:CET
DTSTART:20221030T010000
END:STANDARD
BEGIN:DAYLIGHT
TZOFFSETFROM:+0100
TZOFFSETTO:+0200
TZNAME:CEST
DTSTART:20230326T010000
END:DAYLIGHT
BEGIN:STANDARD
TZOFFSETFROM:+0200
TZOFFSETTO:+0100
TZNAME:CET
DTSTART:20231029T010000
END:STANDARD
BEGIN:DAYLIGHT
TZOFFSETFROM:+0100
TZOFFSETTO:+0200
TZNAME:CEST
DTSTART:20240331T010000
END:DAYLIGHT
BEGIN:STANDARD
TZOFFSETFROM:+0200
TZOFFSETTO:+0100
TZNAME:CET
DTSTART:20241027T010000
END:STANDARD
END:VTIMEZONE
BEGIN:VEVENT
DTSTART;VALUE=DATE:20230731
DTEND;VALUE=DATE:20230803
DTSTAMP:20260422T194249
CREATED:20230127T124830Z
LAST-MODIFIED:20230209T120920Z
UID:3350-1690761600-1691020799@junior-series.de
SUMMARY:XX. JUNIOR OPEN BERLIN 2023
DESCRIPTION:
URL:https://junior-series.de/event/xx-junior-open-berlin-2023/
LOCATION:TC SG Berlin\, Manetstraße 76\, Berlin\, 13053
CATEGORIES:Dunlop Junior Series
ATTACH;FMTTYPE=image/png:https://junior-series.de/wp-content/uploads/2023/01/logo-sgberlin.png
END:VEVENT
BEGIN:VEVENT
DTSTART;VALUE=DATE:20230731
DTEND;VALUE=DATE:20230803
DTSTAMP:20260422T194249
CREATED:20230127T125009Z
LAST-MODIFIED:20230209T120843Z
UID:3355-1690761600-1691020799@junior-series.de
SUMMARY:32. Germeringer Parsberg Cup
DESCRIPTION:
URL:https://junior-series.de/event/32-germeringer-parsberg-cup/
LOCATION:TC Kreuzlinger Forst\, Starnberger Weg 51\, Germering\, 82110
CATEGORIES:Dunlop Junior Series
ATTACH;FMTTYPE=image/bmp:https://junior-series.de/wp-content/uploads/2023/01/logo_germering.bmp
END:VEVENT
END:VCALENDAR