BEGIN:VCALENDAR
VERSION:2.0
PRODID:-//DUNLOP JUNIOR SERIES - ECPv6.15.16//NONSGML v1.0//EN
CALSCALE:GREGORIAN
METHOD:PUBLISH
X-WR-CALNAME:DUNLOP JUNIOR SERIES
X-ORIGINAL-URL:https://junior-series.de
X-WR-CALDESC:Veranstaltungen für DUNLOP JUNIOR SERIES
REFRESH-INTERVAL;VALUE=DURATION:PT1H
X-Robots-Tag:noindex
X-PUBLISHED-TTL:PT1H
BEGIN:VTIMEZONE
TZID:Europe/Berlin
BEGIN:DAYLIGHT
TZOFFSETFROM:+0100
TZOFFSETTO:+0200
TZNAME:CEST
DTSTART:20220327T010000
END:DAYLIGHT
BEGIN:STANDARD
TZOFFSETFROM:+0200
TZOFFSETTO:+0100
TZNAME:CET
DTSTART:20221030T010000
END:STANDARD
BEGIN:DAYLIGHT
TZOFFSETFROM:+0100
TZOFFSETTO:+0200
TZNAME:CEST
DTSTART:20230326T010000
END:DAYLIGHT
BEGIN:STANDARD
TZOFFSETFROM:+0200
TZOFFSETTO:+0100
TZNAME:CET
DTSTART:20231029T010000
END:STANDARD
BEGIN:DAYLIGHT
TZOFFSETFROM:+0100
TZOFFSETTO:+0200
TZNAME:CEST
DTSTART:20240331T010000
END:DAYLIGHT
BEGIN:STANDARD
TZOFFSETFROM:+0200
TZOFFSETTO:+0100
TZNAME:CET
DTSTART:20241027T010000
END:STANDARD
END:VTIMEZONE
BEGIN:VEVENT
DTSTART;VALUE=DATE:20231226
DTEND;VALUE=DATE:20231229
DTSTAMP:20260422T130551
CREATED:20230127T130159Z
LAST-MODIFIED:20230209T120019Z
UID:3391-1703548800-1703807999@junior-series.de
SUMMARY:Wintercup Essen 2023
DESCRIPTION:
URL:https://junior-series.de/event/wintercup-essen-2023/
LOCATION:Tenniszentrum Essen\, Hafenstr. 10
ATTACH;FMTTYPE=image/jpeg:https://junior-series.de/wp-content/uploads/2023/01/logo-wintercup.jpeg
END:VEVENT
BEGIN:VEVENT
DTSTART;VALUE=DATE:20231227
DTEND;VALUE=DATE:20231231
DTSTAMP:20260422T130551
CREATED:20230127T130429Z
LAST-MODIFIED:20230209T114850Z
UID:3398-1703635200-1703980799@junior-series.de
SUMMARY:Year End Youth Cup
DESCRIPTION:
URL:https://junior-series.de/event/year-end-youth-cup/
LOCATION:TC Kreuzlinger  Forst
CATEGORIES:Dunlop Junior Series
ATTACH;FMTTYPE=image/bmp:https://junior-series.de/wp-content/uploads/2023/01/logo_germering.bmp
END:VEVENT
END:VCALENDAR