BEGIN:VCALENDAR
VERSION:2.0
PRODID:-//DUNLOP JUNIOR SERIES - ECPv6.15.16//NONSGML v1.0//EN
CALSCALE:GREGORIAN
METHOD:PUBLISH
X-ORIGINAL-URL:https://junior-series.de
X-WR-CALDESC:Veranstaltungen für DUNLOP JUNIOR SERIES
REFRESH-INTERVAL;VALUE=DURATION:PT1H
X-Robots-Tag:noindex
X-PUBLISHED-TTL:PT1H
BEGIN:VTIMEZONE
TZID:Europe/Berlin
BEGIN:DAYLIGHT
TZOFFSETFROM:+0100
TZOFFSETTO:+0200
TZNAME:CEST
DTSTART:20240331T010000
END:DAYLIGHT
BEGIN:STANDARD
TZOFFSETFROM:+0200
TZOFFSETTO:+0100
TZNAME:CET
DTSTART:20241027T010000
END:STANDARD
BEGIN:DAYLIGHT
TZOFFSETFROM:+0100
TZOFFSETTO:+0200
TZNAME:CEST
DTSTART:20250330T010000
END:DAYLIGHT
BEGIN:STANDARD
TZOFFSETFROM:+0200
TZOFFSETTO:+0100
TZNAME:CET
DTSTART:20251026T010000
END:STANDARD
BEGIN:DAYLIGHT
TZOFFSETFROM:+0100
TZOFFSETTO:+0200
TZNAME:CEST
DTSTART:20260329T010000
END:DAYLIGHT
BEGIN:STANDARD
TZOFFSETFROM:+0200
TZOFFSETTO:+0100
TZNAME:CET
DTSTART:20261025T010000
END:STANDARD
END:VTIMEZONE
BEGIN:VEVENT
DTSTART;VALUE=DATE:20250714
DTEND;VALUE=DATE:20250718
DTSTAMP:20260421T082531
CREATED:20250129T090005Z
LAST-MODIFIED:20250129T090043Z
UID:3761-1752451200-1752796799@junior-series.de
SUMMARY:Stadtwerke Solingen-Best of Juniors 2025
DESCRIPTION:
URL:https://junior-series.de/event/stadtwerke-solingen-best-of-juniors-2025/
LOCATION:Solinger Tennis-Club 1902 e.V\, Widderter Straße 12a\, Solingen\, 42657
CATEGORIES:DUNLOP Junior Series 2025
END:VEVENT
END:VCALENDAR