BEGIN:VCALENDAR
VERSION:2.0
PRODID:-//DUNLOP JUNIOR SERIES - ECPv6.15.16//NONSGML v1.0//EN
CALSCALE:GREGORIAN
METHOD:PUBLISH
X-WR-CALNAME:DUNLOP JUNIOR SERIES
X-ORIGINAL-URL:https://junior-series.de
X-WR-CALDESC:Veranstaltungen für DUNLOP JUNIOR SERIES
REFRESH-INTERVAL;VALUE=DURATION:PT1H
X-Robots-Tag:noindex
X-PUBLISHED-TTL:PT1H
BEGIN:VTIMEZONE
TZID:Europe/Berlin
BEGIN:DAYLIGHT
TZOFFSETFROM:+0100
TZOFFSETTO:+0200
TZNAME:CEST
DTSTART:20240331T010000
END:DAYLIGHT
BEGIN:STANDARD
TZOFFSETFROM:+0200
TZOFFSETTO:+0100
TZNAME:CET
DTSTART:20241027T010000
END:STANDARD
BEGIN:DAYLIGHT
TZOFFSETFROM:+0100
TZOFFSETTO:+0200
TZNAME:CEST
DTSTART:20250330T010000
END:DAYLIGHT
BEGIN:STANDARD
TZOFFSETFROM:+0200
TZOFFSETTO:+0100
TZNAME:CET
DTSTART:20251026T010000
END:STANDARD
BEGIN:DAYLIGHT
TZOFFSETFROM:+0100
TZOFFSETTO:+0200
TZNAME:CEST
DTSTART:20260329T010000
END:DAYLIGHT
BEGIN:STANDARD
TZOFFSETFROM:+0200
TZOFFSETTO:+0100
TZNAME:CET
DTSTART:20261025T010000
END:STANDARD
END:VTIMEZONE
BEGIN:VEVENT
DTSTART;VALUE=DATE:20250903
DTEND;VALUE=DATE:20250907
DTSTAMP:20260421T053022
CREATED:20240110T133613Z
LAST-MODIFIED:20241220T181735Z
UID:3572-1756857600-1757203199@junior-series.de
SUMMARY:Neunkircher Jugend-Stadtmeisterschaften U10-U16
DESCRIPTION:
URL:https://junior-series.de/event/neunkircher-jugend-stadtmeisterschaften-u10-u16/
LOCATION:TuS 1860 Neunkirchen\, Zum Ruhwald 2\, Neunkirchen\, 66538
CATEGORIES:Dunlop Junior Series
ATTACH;FMTTYPE=image/jpeg:https://junior-series.de/wp-content/uploads/2023/01/logo-neunkirchen.jpg
END:VEVENT
END:VCALENDAR