BEGIN:VCALENDAR
VERSION:2.0
PRODID:-//DUNLOP JUNIOR SERIES - ECPv6.15.16//NONSGML v1.0//EN
CALSCALE:GREGORIAN
METHOD:PUBLISH
X-ORIGINAL-URL:https://junior-series.de
X-WR-CALDESC:Veranstaltungen für DUNLOP JUNIOR SERIES
REFRESH-INTERVAL;VALUE=DURATION:PT1H
X-Robots-Tag:noindex
X-PUBLISHED-TTL:PT1H
BEGIN:VTIMEZONE
TZID:Europe/Berlin
BEGIN:DAYLIGHT
TZOFFSETFROM:+0100
TZOFFSETTO:+0200
TZNAME:CEST
DTSTART:20250330T010000
END:DAYLIGHT
BEGIN:STANDARD
TZOFFSETFROM:+0200
TZOFFSETTO:+0100
TZNAME:CET
DTSTART:20251026T010000
END:STANDARD
BEGIN:DAYLIGHT
TZOFFSETFROM:+0100
TZOFFSETTO:+0200
TZNAME:CEST
DTSTART:20260329T010000
END:DAYLIGHT
BEGIN:STANDARD
TZOFFSETFROM:+0200
TZOFFSETTO:+0100
TZNAME:CET
DTSTART:20261025T010000
END:STANDARD
BEGIN:DAYLIGHT
TZOFFSETFROM:+0100
TZOFFSETTO:+0200
TZNAME:CEST
DTSTART:20270328T010000
END:DAYLIGHT
BEGIN:STANDARD
TZOFFSETFROM:+0200
TZOFFSETTO:+0100
TZNAME:CET
DTSTART:20271031T010000
END:STANDARD
END:VTIMEZONE
BEGIN:VEVENT
DTSTART;VALUE=DATE:20260320
DTEND;VALUE=DATE:20260323
DTSTAMP:20260420T195833
CREATED:20240109T200057Z
LAST-MODIFIED:20260113T122433Z
UID:3532-1773964800-1774223999@junior-series.de
SUMMARY:Bayerische Jugend Hallenmeisterschaften 2026 U14/U16/U18
DESCRIPTION:
URL:https://junior-series.de/event/bayerische-jugend-hallenmeisterschaften-2024-u14-u16-u18/
LOCATION:Bayrischer Tennisvarband
CATEGORIES:Dunlop Junior Series 2026
ATTACH;FMTTYPE=image/jpeg:https://junior-series.de/wp-content/uploads/2023/01/logo_btv.jpg
ORGANIZER;CN="Yannick Paul":MAILTO:yannick.paul@btv.de
END:VEVENT
BEGIN:VEVENT
DTSTART;VALUE=DATE:20260321
DTEND;VALUE=DATE:20260323
DTSTAMP:20260420T195833
CREATED:20240109T200639Z
LAST-MODIFIED:20260113T122452Z
UID:3534-1774051200-1774223999@junior-series.de
SUMMARY:35. Ostdeutsche Jugendmeisterschaften U12 / U14
DESCRIPTION:
URL:https://junior-series.de/event/33-ostdeutsche-jugendmeisterschaften-u12-u14/
LOCATION:Sächsischer Tennisverband
CATEGORIES:Dunlop Junior Series 2026
ATTACH;FMTTYPE=image/gif:https://junior-series.de/wp-content/uploads/2023/01/logo_sachsentv.gif
END:VEVENT
END:VCALENDAR