BEGIN:VCALENDAR
VERSION:2.0
PRODID:-//DUNLOP JUNIOR SERIES - ECPv6.15.16//NONSGML v1.0//EN
CALSCALE:GREGORIAN
METHOD:PUBLISH
X-ORIGINAL-URL:https://junior-series.de
X-WR-CALDESC:Veranstaltungen für DUNLOP JUNIOR SERIES
REFRESH-INTERVAL;VALUE=DURATION:PT1H
X-Robots-Tag:noindex
X-PUBLISHED-TTL:PT1H
BEGIN:VTIMEZONE
TZID:Europe/Berlin
BEGIN:DAYLIGHT
TZOFFSETFROM:+0100
TZOFFSETTO:+0200
TZNAME:CEST
DTSTART:20250330T010000
END:DAYLIGHT
BEGIN:STANDARD
TZOFFSETFROM:+0200
TZOFFSETTO:+0100
TZNAME:CET
DTSTART:20251026T010000
END:STANDARD
BEGIN:DAYLIGHT
TZOFFSETFROM:+0100
TZOFFSETTO:+0200
TZNAME:CEST
DTSTART:20260329T010000
END:DAYLIGHT
BEGIN:STANDARD
TZOFFSETFROM:+0200
TZOFFSETTO:+0100
TZNAME:CET
DTSTART:20261025T010000
END:STANDARD
BEGIN:DAYLIGHT
TZOFFSETFROM:+0100
TZOFFSETTO:+0200
TZNAME:CEST
DTSTART:20270328T010000
END:DAYLIGHT
BEGIN:STANDARD
TZOFFSETFROM:+0200
TZOFFSETTO:+0100
TZNAME:CET
DTSTART:20271031T010000
END:STANDARD
END:VTIMEZONE
BEGIN:VEVENT
DTSTART;VALUE=DATE:20260423
DTEND;VALUE=DATE:20260427
DTSTAMP:20260420T152935
CREATED:20240110T123350Z
LAST-MODIFIED:20260113T122409Z
UID:3536-1776902400-1777247999@junior-series.de
SUMMARY:10. KommEnergie Juniors
DESCRIPTION:
URL:https://junior-series.de/event/8-kommenergie-juniors/
LOCATION:TC Eichenau\, Budrio Allee 1\, Eichenau\, 82223
CATEGORIES:Dunlop Junior Series 2026
ATTACH;FMTTYPE=image/jpeg:https://junior-series.de/wp-content/uploads/2023/01/logo-eichenau.jpg
END:VEVENT
BEGIN:VEVENT
DTSTART;VALUE=DATE:20260504
DTEND;VALUE=DATE:20260511
DTSTAMP:20260420T152935
CREATED:20240109T194451Z
LAST-MODIFIED:20260113T122204Z
UID:3525-1777852800-1778457599@junior-series.de
SUMMARY:Saarlandmeisterschaften Jugend 2026
DESCRIPTION:
URL:https://junior-series.de/event/saarlandmeisterschaften-jugend-2024/
LOCATION:Saarländischer Tennisbund
CATEGORIES:Dunlop Junior Series 2026
ATTACH;FMTTYPE=image/png:https://junior-series.de/wp-content/uploads/2023/01/logo_STB.png
END:VEVENT
BEGIN:VEVENT
DTSTART;VALUE=DATE:20260514
DTEND;VALUE=DATE:20260518
DTSTAMP:20260420T152935
CREATED:20240123T101852Z
LAST-MODIFIED:20260113T122353Z
UID:3606-1778716800-1779062399@junior-series.de
SUMMARY:13. Swiss Life Junior Open
DESCRIPTION:
URL:https://junior-series.de/event/11-swiss-life-junior-open/
LOCATION:SG Sportpark Öjendorf\, Koolbargenredder 31-33\, Hamburg\, 22117
CATEGORIES:Dunlop Junior Series 2026
ATTACH;FMTTYPE=image/jpeg:https://junior-series.de/wp-content/uploads/2023/01/logo-oejendorf-125x50-1.jpg
END:VEVENT
BEGIN:VEVENT
DTSTART;VALUE=DATE:20260515
DTEND;VALUE=DATE:20260518
DTSTAMP:20260420T152935
CREATED:20250122T101358Z
LAST-MODIFIED:20260115T174841Z
UID:3756-1778803200-1779062399@junior-series.de
SUMMARY:5. Geesthacht Junior Open 2026
DESCRIPTION:
URL:https://junior-series.de/event/4-geesthacht-junior-open-2025/
LOCATION:TC Geesthacht
CATEGORIES:Dunlop Junior Series 2026
END:VEVENT
BEGIN:VEVENT
DTSTART;VALUE=DATE:20260702
DTEND;VALUE=DATE:20260706
DTSTAMP:20260420T152935
CREATED:20240112T125119Z
LAST-MODIFIED:20260115T123944Z
UID:3590-1782950400-1783295999@junior-series.de
SUMMARY:Bayerische Jugendmeisterschaft 2026
DESCRIPTION:
URL:https://junior-series.de/event/bayerische-jugendmeisterschaft-2024/
LOCATION:Bayrischer Tennisvarband
ATTACH;FMTTYPE=image/jpeg:https://junior-series.de/wp-content/uploads/2023/01/logo_btv.jpg
END:VEVENT
BEGIN:VEVENT
DTSTART;VALUE=DATE:20260717
DTEND;VALUE=DATE:20260720
DTSTAMP:20260420T152935
CREATED:20250122T101205Z
LAST-MODIFIED:20260115T133951Z
UID:3753-1784246400-1784505599@junior-series.de
SUMMARY:3. Physiotherapie Kollmorgen Cup
DESCRIPTION:
URL:https://junior-series.de/event/2-physiotherapie-kollmorgen-cup/
LOCATION:TV Warnemünde\, Parkstraße 48\, Warnemünde\, 18119
CATEGORIES:Dunlop Junior Series 2026
ATTACH;FMTTYPE=image/jpeg:https://junior-series.de/wp-content/uploads/2023/01/logo-warnemuende.jpg
END:VEVENT
BEGIN:VEVENT
DTSTART;VALUE=DATE:20260720
DTEND;VALUE=DATE:20260724
DTSTAMP:20260420T152935
CREATED:20240110T124914Z
LAST-MODIFIED:20260115T124245Z
UID:3548-1784505600-1784851199@junior-series.de
SUMMARY:Düsseldorf Junior Open 2026
DESCRIPTION:
URL:https://junior-series.de/event/duesseldorf-junior-open-2024-2/
LOCATION:TC Rheinstadion\, Am Staad 17\, Düsseldorf\, 40474
CATEGORIES:Dunlop Junior Series 2026
ATTACH;FMTTYPE=image/png:https://junior-series.de/wp-content/uploads/2023/01/logo_rheinstadion.png
END:VEVENT
BEGIN:VEVENT
DTSTART;VALUE=DATE:20260723
DTEND;VALUE=DATE:20260727
DTSTAMP:20260420T152935
CREATED:20240110T125121Z
LAST-MODIFIED:20260115T124754Z
UID:3550-1784764800-1785110399@junior-series.de
SUMMARY:Düsseldorf Junior Open 2026 - Teil der Dunlop Junior Series und Teil der DTB U 12 Masters-Turnierserie
DESCRIPTION:
URL:https://junior-series.de/event/duesseldorf-junior-open-2024-teil-der-dunlop-junior-series-und-teil-der-dtb-u-12-masters-turnierserie/
LOCATION:TC Rheinstadion\, Am Staad 17\, Düsseldorf\, 40474
CATEGORIES:Dunlop Junior Series 2026
ATTACH;FMTTYPE=image/png:https://junior-series.de/wp-content/uploads/2023/01/logo_rheinstadion.png
END:VEVENT
BEGIN:VEVENT
DTSTART;VALUE=DATE:20260724
DTEND;VALUE=DATE:20260727
DTSTAMP:20260420T152935
CREATED:20240110T131009Z
LAST-MODIFIED:20260115T125543Z
UID:3558-1784851200-1785110399@junior-series.de
SUMMARY:9. Neuenhagen Junior Open 2026
DESCRIPTION:
URL:https://junior-series.de/event/7-neuenhagen-junior-open-2024/
LOCATION:Neuenhagener TC\, Hildesheimer Str. 9-13\, Berlin\, 15366
CATEGORIES:Dunlop Junior Series 2026
ATTACH;FMTTYPE=image/png:https://junior-series.de/wp-content/uploads/2023/01/logo-neuenhagen.png
END:VEVENT
BEGIN:VEVENT
DTSTART;VALUE=DATE:20260724
DTEND;VALUE=DATE:20260727
DTSTAMP:20260420T152935
CREATED:20250122T101039Z
LAST-MODIFIED:20260115T134610Z
UID:3750-1784851200-1785110399@junior-series.de
SUMMARY:4. Physiotherapie Kollmorgen Cup
DESCRIPTION:
URL:https://junior-series.de/event/1-physiotherapie-kollmorgen-cup/
LOCATION:TV Warnemünde\, Parkstraße 48\, Warnemünde\, 18119
CATEGORIES:Dunlop Junior Series 2026
ATTACH;FMTTYPE=image/jpeg:https://junior-series.de/wp-content/uploads/2023/01/logo-warnemuende.jpg
END:VEVENT
BEGIN:VEVENT
DTSTART;VALUE=DATE:20260727
DTEND;VALUE=DATE:20260730
DTSTAMP:20260420T152935
CREATED:20260115T130704Z
LAST-MODIFIED:20260115T130715Z
UID:3833-1785110400-1785369599@junior-series.de
SUMMARY:XXIII. JUNIOR OPEN BERLIN 2026
DESCRIPTION:
URL:https://junior-series.de/event/xxiii-junior-open-berlin-2026/
CATEGORIES:Dunlop Junior Series 2026
ORGANIZER;CN="Sebastian Herzberg":MAILTO:info@herzberg-sports.com
END:VEVENT
BEGIN:VEVENT
DTSTART;VALUE=DATE:20260803
DTEND;VALUE=DATE:20260806
DTSTAMP:20260420T152935
CREATED:20240110T132126Z
LAST-MODIFIED:20260115T130851Z
UID:3564-1785715200-1785974399@junior-series.de
SUMMARY:35. Germeringer Parsberg Cup
DESCRIPTION:
URL:https://junior-series.de/event/33-germeringer-parsberg-cup/
LOCATION:TC Kreuzlinger  Forst
CATEGORIES:Dunlop Junior Series 2026
ATTACH;FMTTYPE=image/bmp:https://junior-series.de/wp-content/uploads/2023/01/logo_germering.bmp
END:VEVENT
BEGIN:VEVENT
DTSTART;VALUE=DATE:20260810
DTEND;VALUE=DATE:20260814
DTSTAMP:20260420T152935
CREATED:20240110T124144Z
LAST-MODIFIED:20260115T124119Z
UID:3542-1786320000-1786665599@junior-series.de
SUMMARY:20. OTC Cup
DESCRIPTION:
URL:https://junior-series.de/event/18-otc-cup/
LOCATION:Odenkirchener TC\, Kranenbruchweg 1a\, Brüggen\, 41379
CATEGORIES:Dunlop Junior Series 2026
ATTACH;FMTTYPE=image/png:https://junior-series.de/wp-content/uploads/2023/01/logo-odenkirchen-125x125-1.png
END:VEVENT
BEGIN:VEVENT
DTSTART;VALUE=DATE:20260810
DTEND;VALUE=DATE:20260814
DTSTAMP:20260420T152935
CREATED:20240417T095053Z
LAST-MODIFIED:20260128T112646Z
UID:3633-1786320000-1786665599@junior-series.de
SUMMARY:31. Internationales Jugendturnier des TC Rot-Weiß Troisdorf powered by Beratung Wink
DESCRIPTION:
URL:https://junior-series.de/event/29-internationales-jugendturnier-des-tc-rot-weiss-troisdorf-powered-by-beratung-wink/
LOCATION:TC RW Troisdorf\, Carl- Diem- Straße 2\, Troisdorf\, 53840
CATEGORIES:Dunlop Junior Series 2026
ATTACH;FMTTYPE=image/jpeg:https://junior-series.de/wp-content/uploads/2023/01/logo-troisdorf-125x80-1.jpg
END:VEVENT
BEGIN:VEVENT
DTSTART;VALUE=DATE:20260813
DTEND;VALUE=DATE:20260817
DTSTAMP:20260420T152935
CREATED:20260115T125326Z
LAST-MODIFIED:20260115T125333Z
UID:3829-1786579200-1786924799@junior-series.de
SUMMARY:3. VFE Sportpark Öjendorf Cup
DESCRIPTION:
URL:https://junior-series.de/event/3-vfe-sportpark-oejendorf-cup/
CATEGORIES:Dunlop Junior Series 2026
END:VEVENT
BEGIN:VEVENT
DTSTART;VALUE=DATE:20260817
DTEND;VALUE=DATE:20260821
DTSTAMP:20260420T152935
CREATED:20240110T132658Z
LAST-MODIFIED:20260128T113639Z
UID:3566-1786924800-1787270399@junior-series.de
SUMMARY:22. Flügelrader Jugendturnier  WÖHRL Cup 2026 - Teil der Dunlop Junior-Series
DESCRIPTION:
URL:https://junior-series.de/event/20-fluegelrader-jugendturnier-woehrl-cup-2024-teil-der-dunlop-junior-series/
LOCATION:ESV Flügelrad\, Finkenbrunn 145\, Nürnberg\, 90469
CATEGORIES:DUNLOP Junior Series 2025
ATTACH;FMTTYPE=image/jpeg:https://junior-series.de/wp-content/uploads/2023/01/logo-fluegelradnuernberg.jpg
END:VEVENT
BEGIN:VEVENT
DTSTART;VALUE=DATE:20260820
DTEND;VALUE=DATE:20260824
DTSTAMP:20260420T152935
CREATED:20240110T131315Z
LAST-MODIFIED:20260128T113751Z
UID:3560-1787184000-1787529599@junior-series.de
SUMMARY:32. RTHC-Tennis-Cup 2026 (Kategorie / J-3)
DESCRIPTION:
URL:https://junior-series.de/event/31-rthc-tennis-cup-2024-kategorie-j-3/
LOCATION:RTHC Bayer Leverkusen\, Knochenbergsweg\, Leverkusen\, 51373
CATEGORIES:DUNLOP Junior Series 2025
ATTACH;FMTTYPE=image/png:https://junior-series.de/wp-content/uploads/2023/01/logo-rthcleverkusen.png
END:VEVENT
BEGIN:VEVENT
DTSTART;VALUE=DATE:20260828
DTEND;VALUE=DATE:20260831
DTSTAMP:20260420T152935
CREATED:20240110T123838Z
LAST-MODIFIED:20260113T122305Z
UID:3540-1787875200-1788134399@junior-series.de
SUMMARY:Sparkasse Westmünsterland Cup 2026 (Teil der Dunlop Junior Series 2026)
DESCRIPTION:
URL:https://junior-series.de/event/sparkasse-westmuensterland-cup-2024-teil-der-dunlop-junior-series-2024/
LOCATION:TuB Bocholt\, Lowicker Str. 19d\, Bocholt\, 46395
CATEGORIES:Dunlop Junior Series 2026
ATTACH;FMTTYPE=image/png:https://junior-series.de/wp-content/uploads/2023/01/logo-tub-bocholt.png
END:VEVENT
BEGIN:VEVENT
DTSTART;VALUE=DATE:20260902
DTEND;VALUE=DATE:20260906
DTSTAMP:20260420T152935
CREATED:20260115T131306Z
LAST-MODIFIED:20260115T131325Z
UID:3837-1788307200-1788652799@junior-series.de
SUMMARY:Neunkircher Jugend-Stadtmeisterschaften U10-U16
DESCRIPTION:
URL:https://junior-series.de/event/neunkircher-jugend-stadtmeisterschaften-u10-u16-2/
CATEGORIES:Dunlop Junior Series 2026
ORGANIZER;CN="Frank Benoit":MAILTO:ISE@email.de
END:VEVENT
BEGIN:VEVENT
DTSTART;VALUE=DATE:20261002
DTEND;VALUE=DATE:20261005
DTSTAMP:20260420T152935
CREATED:20250710T115104Z
LAST-MODIFIED:20260115T175107Z
UID:3789-1790899200-1791158399@junior-series.de
SUMMARY:Geesthacht
DESCRIPTION:
URL:https://junior-series.de/event/5-tc-geesthacht-junior-outdoor-open-end-of-seasion-cup/
LOCATION:TC Geesthacht
CATEGORIES:Dunlop Junior Series 2026
END:VEVENT
BEGIN:VEVENT
DTSTART;VALUE=DATE:20261226
DTEND;VALUE=DATE:20261229
DTSTAMP:20260420T152935
CREATED:20240110T134843Z
LAST-MODIFIED:20260115T132358Z
UID:3580-1798243200-1798502399@junior-series.de
SUMMARY:Wintercup Essen 2026
DESCRIPTION:
URL:https://junior-series.de/event/wintercup-essen-2024-2/
LOCATION:Tenniszentrum Essen\, Hafenstr. 10
CATEGORIES:Dunlop Junior Series 2026
ORGANIZER;CN="Katharina Jacob":MAILTO:katharina@tenniswerk.de
END:VEVENT
BEGIN:VEVENT
DTSTART;VALUE=DATE:20261227
DTEND;VALUE=DATE:20261231
DTSTAMP:20260420T152935
CREATED:20240110T134628Z
LAST-MODIFIED:20260115T133058Z
UID:3578-1798329600-1798675199@junior-series.de
SUMMARY:Year End Youth Cup
DESCRIPTION:
URL:https://junior-series.de/event/year-end-youth-cup-2/
LOCATION:TC Kreuzlinger  Forst
CATEGORIES:Dunlop Junior Series 2026
ATTACH;FMTTYPE=image/bmp:https://junior-series.de/wp-content/uploads/2023/01/logo_germering.bmp
END:VEVENT
BEGIN:VEVENT
DTSTART;VALUE=DATE:20261228
DTEND;VALUE=DATE:20270101
DTSTAMP:20260420T152935
CREATED:20240110T134422Z
LAST-MODIFIED:20260115T132909Z
UID:3576-1798416000-1798761599@junior-series.de
SUMMARY:Wintercup Essen 2026
DESCRIPTION:
URL:https://junior-series.de/event/wintercup-essen-2024/
LOCATION:Tenniszentrum Essen\, Hafenstr. 10
CATEGORIES:Dunlop Junior Series 2026
ORGANIZER;CN="Katharina Jacob":MAILTO:katharina@tenniswerk.de
END:VEVENT
END:VCALENDAR