BEGIN:VCALENDAR
VERSION:2.0
PRODID:-//DUNLOP JUNIOR SERIES - ECPv6.15.16//NONSGML v1.0//EN
CALSCALE:GREGORIAN
METHOD:PUBLISH
X-ORIGINAL-URL:https://junior-series.de
X-WR-CALDESC:Veranstaltungen für DUNLOP JUNIOR SERIES
REFRESH-INTERVAL;VALUE=DURATION:PT1H
X-Robots-Tag:noindex
X-PUBLISHED-TTL:PT1H
BEGIN:VTIMEZONE
TZID:Europe/Berlin
BEGIN:DAYLIGHT
TZOFFSETFROM:+0100
TZOFFSETTO:+0200
TZNAME:CEST
DTSTART:20220327T010000
END:DAYLIGHT
BEGIN:STANDARD
TZOFFSETFROM:+0200
TZOFFSETTO:+0100
TZNAME:CET
DTSTART:20221030T010000
END:STANDARD
BEGIN:DAYLIGHT
TZOFFSETFROM:+0100
TZOFFSETTO:+0200
TZNAME:CEST
DTSTART:20230326T010000
END:DAYLIGHT
BEGIN:STANDARD
TZOFFSETFROM:+0200
TZOFFSETTO:+0100
TZNAME:CET
DTSTART:20231029T010000
END:STANDARD
BEGIN:DAYLIGHT
TZOFFSETFROM:+0100
TZOFFSETTO:+0200
TZNAME:CEST
DTSTART:20240331T010000
END:DAYLIGHT
BEGIN:STANDARD
TZOFFSETFROM:+0200
TZOFFSETTO:+0100
TZNAME:CET
DTSTART:20241027T010000
END:STANDARD
END:VTIMEZONE
BEGIN:VEVENT
DTSTART;TZID=Europe/Berlin:20230428T080000
DTEND;TZID=Europe/Berlin:20230501T170000
DTSTAMP:20260422T223042
CREATED:20230127T120053Z
LAST-MODIFIED:20230127T120053Z
UID:3270-1682668800-1682960400@junior-series.de
SUMMARY:7. KommEnergie Juniors
DESCRIPTION:
URL:https://junior-series.de/event/7-kommenergie-juniors/
LOCATION:TC Eichenau\, Budrio Allee 1\, Eichenau\, 82223
CATEGORIES:Dunlop Junior Series
END:VEVENT
BEGIN:VEVENT
DTSTART;VALUE=DATE:20230518
DTEND;VALUE=DATE:20230522
DTSTAMP:20260422T223042
CREATED:20230127T120315Z
LAST-MODIFIED:20230127T120315Z
UID:3275-1684368000-1684713599@junior-series.de
SUMMARY:10. Swiss Life Junior Open
DESCRIPTION:
URL:https://junior-series.de/event/10-swiss-life-junior-open/
LOCATION:SG Sportpark Öjendorf\, Koolbargenredder 31-33\, Hamburg\, 22117
CATEGORIES:Dunlop Junior Series
END:VEVENT
BEGIN:VEVENT
DTSTART;VALUE=DATE:20230526
DTEND;VALUE=DATE:20230529
DTSTAMP:20260422T223042
CREATED:20230127T120528Z
LAST-MODIFIED:20230127T120528Z
UID:3281-1685059200-1685318399@junior-series.de
SUMMARY:Norddeutsche Jugendmeisterschaften
DESCRIPTION:
URL:https://junior-series.de/event/norddeutsche-jugendmeisterschaften/
LOCATION:TSC Glashütte\, Norderstedt\, 22851
CATEGORIES:Dunlop Junior Series
END:VEVENT
BEGIN:VEVENT
DTSTART;VALUE=DATE:20230526
DTEND;VALUE=DATE:20230530
DTSTAMP:20260422T223042
CREATED:20230127T120647Z
LAST-MODIFIED:20230127T120647Z
UID:3286-1685059200-1685404799@junior-series.de
SUMMARY:24. Blankeneser Pfingstturnier
DESCRIPTION:
URL:https://junior-series.de/event/24-blankeneser-pfingstturnier/
LOCATION:Sportvereiningung Blankenese\, Eichengrund 25\, Hamburg\, 22589
CATEGORIES:Dunlop Junior Series
END:VEVENT
END:VCALENDAR