BEGIN:VCALENDAR
VERSION:2.0
PRODID:-//DUNLOP JUNIOR SERIES - ECPv6.15.16//NONSGML v1.0//EN
CALSCALE:GREGORIAN
METHOD:PUBLISH
X-WR-CALNAME:DUNLOP JUNIOR SERIES
X-ORIGINAL-URL:https://junior-series.de
X-WR-CALDESC:Veranstaltungen für DUNLOP JUNIOR SERIES
REFRESH-INTERVAL;VALUE=DURATION:PT1H
X-Robots-Tag:noindex
X-PUBLISHED-TTL:PT1H
BEGIN:VTIMEZONE
TZID:Europe/Berlin
BEGIN:DAYLIGHT
TZOFFSETFROM:+0100
TZOFFSETTO:+0200
TZNAME:CEST
DTSTART:20220327T010000
END:DAYLIGHT
BEGIN:STANDARD
TZOFFSETFROM:+0200
TZOFFSETTO:+0100
TZNAME:CET
DTSTART:20221030T010000
END:STANDARD
BEGIN:DAYLIGHT
TZOFFSETFROM:+0100
TZOFFSETTO:+0200
TZNAME:CEST
DTSTART:20230326T010000
END:DAYLIGHT
BEGIN:STANDARD
TZOFFSETFROM:+0200
TZOFFSETTO:+0100
TZNAME:CET
DTSTART:20231029T010000
END:STANDARD
BEGIN:DAYLIGHT
TZOFFSETFROM:+0100
TZOFFSETTO:+0200
TZNAME:CEST
DTSTART:20240331T010000
END:DAYLIGHT
BEGIN:STANDARD
TZOFFSETFROM:+0200
TZOFFSETTO:+0100
TZNAME:CET
DTSTART:20241027T010000
END:STANDARD
END:VTIMEZONE
BEGIN:VEVENT
DTSTART;VALUE=DATE:20230630
DTEND;VALUE=DATE:20230703
DTSTAMP:20260422T194428
CREATED:20230127T121052Z
LAST-MODIFIED:20230127T121052Z
UID:3297-1688083200-1688342399@junior-series.de
SUMMARY:Sparkasse Westmünsterland Cup
DESCRIPTION:
URL:https://junior-series.de/event/sparkasse-westmuensterland-cup/
LOCATION:TuB Bocholt\, Lowicker Str. 19d\, Bocholt\, 46395
CATEGORIES:Dunlop Junior Series
END:VEVENT
BEGIN:VEVENT
DTSTART;VALUE=DATE:20230706
DTEND;VALUE=DATE:20230710
DTSTAMP:20260422T194428
CREATED:20230127T122445Z
LAST-MODIFIED:20230127T122445Z
UID:3302-1688601600-1688947199@junior-series.de
SUMMARY:Bayerische Jugendmeisterschaft
DESCRIPTION:
URL:https://junior-series.de/event/bayerische-jugendmeisterschaft/
LOCATION:Bayrischer Tennisvarband
CATEGORIES:Dunlop Junior Series
END:VEVENT
BEGIN:VEVENT
DTSTART;VALUE=DATE:20230710
DTEND;VALUE=DATE:20230715
DTSTAMP:20260422T194428
CREATED:20230127T122605Z
LAST-MODIFIED:20230127T122605Z
UID:3304-1688947200-1689379199@junior-series.de
SUMMARY:17. OTC Cup
DESCRIPTION:
URL:https://junior-series.de/event/17-otc-cup/
LOCATION:Odenkirchener TC\, Kranenbruchweg 1a\, Brüggen\, 41379
CATEGORIES:Dunlop Junior Series
END:VEVENT
BEGIN:VEVENT
DTSTART;TZID=Europe/Berlin:20230710T080000
DTEND;TZID=Europe/Berlin:20230718T170000
DTSTAMP:20260422T194428
CREATED:20230127T123543Z
LAST-MODIFIED:20230209T115648Z
UID:3315-1688976000-1689699600@junior-series.de
SUMMARY:Düsseldorf Junior Open 2023
DESCRIPTION:
URL:https://junior-series.de/event/duesseldorf-junior-open-2023/
LOCATION:TC Rheinstadion\, Am Staad 17\, Düsseldorf\, 40474
CATEGORIES:Dunlop Junior Series
ATTACH;FMTTYPE=image/png:https://junior-series.de/wp-content/uploads/2023/01/logo_rheinstadion.png
END:VEVENT
BEGIN:VEVENT
DTSTART;VALUE=DATE:20230713
DTEND;VALUE=DATE:20230718
DTSTAMP:20260422T194428
CREATED:20230127T123410Z
LAST-MODIFIED:20230127T123410Z
UID:3309-1689206400-1689638399@junior-series.de
SUMMARY:50. Ellerbeker Ferienturnier
DESCRIPTION:
URL:https://junior-series.de/event/50-ellerbeker-ferienturnier/
LOCATION:TC Ellerbek\, Dubenhorst 7\, Ellerbek\, 25474
CATEGORIES:Dunlop Junior Series
END:VEVENT
BEGIN:VEVENT
DTSTART;VALUE=DATE:20230717
DTEND;VALUE=DATE:20230721
DTSTAMP:20260422T194428
CREATED:20230127T124218Z
LAST-MODIFIED:20230127T124218Z
UID:3329-1689552000-1689897599@junior-series.de
SUMMARY:27. Internationales Jugendturnier des TC Rot-Weiß Troisdorf
DESCRIPTION:
URL:https://junior-series.de/event/27-internationales-jugendturnier-des-tc-rot-weiss-troisdorf/
LOCATION:TC RW Troisdorf\, Carl- Diem- Straße 2\, Troisdorf\, 53840
CATEGORIES:Dunlop Junior Series
END:VEVENT
BEGIN:VEVENT
DTSTART;VALUE=DATE:20230717
DTEND;VALUE=DATE:20230722
DTSTAMP:20260422T194428
CREATED:20230127T123931Z
LAST-MODIFIED:20230127T123931Z
UID:3325-1689552000-1689983999@junior-series.de
SUMMARY:Düsseldorf Junior Open 2023
DESCRIPTION:
URL:https://junior-series.de/event/duesseldorf-junior-open-2023-2/
LOCATION:TC Rheinstadion\, Am Staad 17\, Düsseldorf\, 40474
CATEGORIES:Dunlop Junior Series
END:VEVENT
BEGIN:VEVENT
DTSTART;VALUE=DATE:20230717
DTEND;VALUE=DATE:20230722
DTSTAMP:20260422T194428
CREATED:20230127T124033Z
LAST-MODIFIED:20230127T124033Z
UID:3327-1689552000-1689983999@junior-series.de
SUMMARY:Düsseldorf Junior Open 2023
DESCRIPTION:
URL:https://junior-series.de/event/duesseldorf-junior-open-2023-3/
LOCATION:TC Rheinstadion\, Am Staad 17\, Düsseldorf\, 40474
CATEGORIES:Dunlop Junior Series
END:VEVENT
BEGIN:VEVENT
DTSTART;VALUE=DATE:20230720
DTEND;VALUE=DATE:20230724
DTSTAMP:20260422T194428
CREATED:20230127T124401Z
LAST-MODIFIED:20230127T124401Z
UID:3336-1689811200-1690156799@junior-series.de
SUMMARY:18. Blankeneser Sommerturnier
DESCRIPTION:
URL:https://junior-series.de/event/18-blankeneser-sommerturnier/
LOCATION:Sportvereiningung Blankenese\, Eichengrund 25\, Hamburg\, 22589
CATEGORIES:Dunlop Junior Series
END:VEVENT
BEGIN:VEVENT
DTSTART;VALUE=DATE:20230721
DTEND;VALUE=DATE:20230724
DTSTAMP:20260422T194428
CREATED:20230127T123823Z
LAST-MODIFIED:20230127T123823Z
UID:3320-1689897600-1690156799@junior-series.de
SUMMARY:Janny´s Eis Cup
DESCRIPTION:
URL:https://junior-series.de/event/jannys-eis-cup/
LOCATION:TV Warnemünde\, Parkstraße 48\, Warnemünde\, 18119
CATEGORIES:Dunlop Junior Series
END:VEVENT
BEGIN:VEVENT
DTSTART;TZID=Europe/Berlin:20230721T080000
DTEND;TZID=Europe/Berlin:20230723T170000
DTSTAMP:20260422T194428
CREATED:20230127T124314Z
LAST-MODIFIED:20230127T124314Z
UID:3334-1689926400-1690131600@junior-series.de
SUMMARY:Janny´s Eis Cup
DESCRIPTION:
URL:https://junior-series.de/event/jannys-eis-cup-2/
LOCATION:TV Warnemünde\, Parkstraße 48\, Warnemünde\, 18119
CATEGORIES:Dunlop Junior Series
END:VEVENT
BEGIN:VEVENT
DTSTART;VALUE=DATE:20230727
DTEND;VALUE=DATE:20230731
DTSTAMP:20260422T194428
CREATED:20230127T124526Z
LAST-MODIFIED:20230127T124526Z
UID:3339-1690416000-1690761599@junior-series.de
SUMMARY:6. Neuenhagen Junior Open 2023
DESCRIPTION:
URL:https://junior-series.de/event/6-neuenhagen-junior-open-2023/
LOCATION:Neuenhagener TC\, Hildesheimer Str. 9-13\, Berlin\, 15366
CATEGORIES:Dunlop Junior Series
END:VEVENT
BEGIN:VEVENT
DTSTART;VALUE=DATE:20230728
DTEND;VALUE=DATE:20230801
DTSTAMP:20260422T194428
CREATED:20230127T124653Z
LAST-MODIFIED:20230209T121117Z
UID:3344-1690502400-1690847999@junior-series.de
SUMMARY:30. RTHC-Tennis-Cup 2023
DESCRIPTION:
URL:https://junior-series.de/event/30-rthc-tennis-cup-2023/
LOCATION:RTHC Bayer Leverkusen\, Knochenbergsweg\, Leverkusen\, 51373
CATEGORIES:Dunlop Junior Series
ATTACH;FMTTYPE=image/png:https://junior-series.de/wp-content/uploads/2023/01/logo-rthcleverkusen.png
END:VEVENT
BEGIN:VEVENT
DTSTART;VALUE=DATE:20230731
DTEND;VALUE=DATE:20230803
DTSTAMP:20260422T194428
CREATED:20230127T124830Z
LAST-MODIFIED:20230209T120920Z
UID:3350-1690761600-1691020799@junior-series.de
SUMMARY:XX. JUNIOR OPEN BERLIN 2023
DESCRIPTION:
URL:https://junior-series.de/event/xx-junior-open-berlin-2023/
LOCATION:TC SG Berlin\, Manetstraße 76\, Berlin\, 13053
CATEGORIES:Dunlop Junior Series
ATTACH;FMTTYPE=image/png:https://junior-series.de/wp-content/uploads/2023/01/logo-sgberlin.png
END:VEVENT
BEGIN:VEVENT
DTSTART;VALUE=DATE:20230731
DTEND;VALUE=DATE:20230803
DTSTAMP:20260422T194428
CREATED:20230127T125009Z
LAST-MODIFIED:20230209T120843Z
UID:3355-1690761600-1691020799@junior-series.de
SUMMARY:32. Germeringer Parsberg Cup
DESCRIPTION:
URL:https://junior-series.de/event/32-germeringer-parsberg-cup/
LOCATION:TC Kreuzlinger Forst\, Starnberger Weg 51\, Germering\, 82110
CATEGORIES:Dunlop Junior Series
ATTACH;FMTTYPE=image/bmp:https://junior-series.de/wp-content/uploads/2023/01/logo_germering.bmp
END:VEVENT
END:VCALENDAR