BEGIN:VCALENDAR
VERSION:2.0
PRODID:-//DUNLOP JUNIOR SERIES - ECPv6.15.16//NONSGML v1.0//EN
CALSCALE:GREGORIAN
METHOD:PUBLISH
X-WR-CALNAME:DUNLOP JUNIOR SERIES
X-ORIGINAL-URL:https://junior-series.de
X-WR-CALDESC:Veranstaltungen für DUNLOP JUNIOR SERIES
REFRESH-INTERVAL;VALUE=DURATION:PT1H
X-Robots-Tag:noindex
X-PUBLISHED-TTL:PT1H
BEGIN:VTIMEZONE
TZID:Europe/Berlin
BEGIN:DAYLIGHT
TZOFFSETFROM:+0100
TZOFFSETTO:+0200
TZNAME:CEST
DTSTART:20230326T010000
END:DAYLIGHT
BEGIN:STANDARD
TZOFFSETFROM:+0200
TZOFFSETTO:+0100
TZNAME:CET
DTSTART:20231029T010000
END:STANDARD
BEGIN:DAYLIGHT
TZOFFSETFROM:+0100
TZOFFSETTO:+0200
TZNAME:CEST
DTSTART:20240331T010000
END:DAYLIGHT
BEGIN:STANDARD
TZOFFSETFROM:+0200
TZOFFSETTO:+0100
TZNAME:CET
DTSTART:20241027T010000
END:STANDARD
BEGIN:DAYLIGHT
TZOFFSETFROM:+0100
TZOFFSETTO:+0200
TZNAME:CEST
DTSTART:20250330T010000
END:DAYLIGHT
BEGIN:STANDARD
TZOFFSETFROM:+0200
TZOFFSETTO:+0100
TZNAME:CET
DTSTART:20251026T010000
END:STANDARD
END:VTIMEZONE
BEGIN:VEVENT
DTSTART;VALUE=DATE:20240509
DTEND;VALUE=DATE:20240513
DTSTAMP:20260422T034213
CREATED:20240223T162837Z
LAST-MODIFIED:20240223T162837Z
UID:3624-1715212800-1715558399@junior-series.de
SUMMARY:2. TC Geesthacht Junior Summer Open
DESCRIPTION:
URL:https://junior-series.de/event/2-tc-geesthacht-junior-summer-open/
LOCATION:TC Geesthacht
ORGANIZER;CN="Daniel Maske":MAILTO:Turnierleitung-jugend@tcgeesthacht.de
END:VEVENT
BEGIN:VEVENT
DTSTART;VALUE=DATE:20240517
DTEND;VALUE=DATE:20240520
DTSTAMP:20260422T034213
CREATED:20240509T100307Z
LAST-MODIFIED:20240509T101511Z
UID:3636-1715904000-1716163199@junior-series.de
SUMMARY:Norddeutsche Jugendmeisterschaften
DESCRIPTION:
URL:https://junior-series.de/event/norddeutsche-jugendmeisterschaften-2/
LOCATION:TV Schleswig-Holstein
CATEGORIES:DUNLOP Junior Series 2024
END:VEVENT
END:VCALENDAR